BEGIN:VCALENDAR
VERSION:2.0
PRODID:-//wp-events-plugin.com//7.2.3.1//EN
TZID:Europe/Berlin
X-WR-TIMEZONE:Europe/Berlin
BEGIN:VEVENT
UID:14@rockcafe-altdorf.de
DTSTART;TZID=Europe/Berlin:20250117T200000
DTEND;TZID=Europe/Berlin:20250117T234500
DTSTAMP:20241127T102631Z
URL:https://rockcafe-altdorf.de/programm/the-oriental-voodoo-conference/
SUMMARY:The Oriental Voodoo Conference
DESCRIPTION:Weitere Infos folgen in Kürze. _______________________________
 _____________________ Der Eintritt frei - der Hut geht rum. 20:00 Uhr Einl
 ass ca. 21:15 Uhr Konzertbeginn Alle Infos und Kanäle unter: www.kuschmie
 .de/links
ATTACH;FMTTYPE=image/jpeg:https://rockcafe-altdorf.de/wp-content/uploads/2
 021/07/212001487_2990414404576941_5936724871899785438_n.jpg
END:VEVENT
BEGIN:VTIMEZONE
TZID:Europe/Berlin
X-LIC-LOCATION:Europe/Berlin
BEGIN:STANDARD
DTSTART:20241027T020000
TZOFFSETFROM:+0200
TZOFFSETTO:+0100
TZNAME:CET
END:STANDARD
END:VTIMEZONE
END:VCALENDAR