BEGIN:VCALENDAR
VERSION:2.0
PRODID:-//wp-events-plugin.com//7.2.3.1//EN
TZID:Europe/Berlin
X-WR-TIMEZONE:Europe/Berlin
BEGIN:VEVENT
UID:65@rockcafe-altdorf.de
DTSTART;TZID=Europe/Berlin:20251219T200000
DTEND;TZID=Europe/Berlin:20251219T235900
DTSTAMP:20251020T110221Z
URL:https://rockcafe-altdorf.de/programm/no-authority-ska-punk/
SUMMARY:Rhinwaldsounds (Mundartpop)
DESCRIPTION:\n\n\n\n\nTerminvorschau - Details folgen in Kürze.\n\n_______
 _____________________________________________\n\n\nDer Eintritt frei - der
  Hut geht rum.\n20:00 Uhr Einlass\nca. 21:15 Uhr Konzertbeginn\n\nAlle Inf
 os und Kanäle unter:\nwww.kuschmie.de/links\n\n\n\n
END:VEVENT
BEGIN:VTIMEZONE
TZID:Europe/Berlin
X-LIC-LOCATION:Europe/Berlin
BEGIN:STANDARD
DTSTART:20251026T020000
TZOFFSETFROM:+0200
TZOFFSETTO:+0100
TZNAME:CET
END:STANDARD
END:VTIMEZONE
END:VCALENDAR