BEGIN:VCALENDAR
VERSION:2.0
PRODID:-//wp-events-plugin.com//7.2.3.1//EN
TZID:Europe/Berlin
X-WR-TIMEZONE:Europe/Berlin
BEGIN:VEVENT
UID:3@rockcafe-altdorf.de
DTSTART;TZID=Europe/Berlin:20240913T200000
DTEND;TZID=Europe/Berlin:20240913T235900
DTSTAMP:20240914T161610Z
URL:https://rockcafe-altdorf.de/programm/never2late-magic-mojo-cover-commu
 nion/
SUMMARY:Never2late | MAGIC MOJO Cover Communion
DESCRIPTION:\n\nNever2late Rock und Blues\n\nDie Rock- und Bluesband Never
 2Late besteht seit 2 Jahren.\n\nDie Musiker kommen aus Offenburg und spiel
 en mit Leidenschaft Songs mit rockigem Charakter. Die einzigartigen Solos 
 unseres Gitarristen überzeugen in ihren Ausführungen.\n\nWir spielen tei
 lweise bekannte Songs der 70er- und 80er-Jahre\, aber auch Songs\, die nic
 ht dem üblichen Klischee entsprechen. Auf jeden Fall kommen die Zuhörer 
 auf ihre Kosten. Auch der Blues kommt nicht zu kurz.\n\nEs spielen für Eu
 ch: Klaus am Schlagzeug\, Christian am Gesang und an der Gitarre\, Andr
 e am Gesang und am Bass\, Regina am Gesang und an der Moderation. Freut 
 Euch auf einen musikalischen Abend.\n\n&nbsp\;\n\n\n\n&nbsp\;\n\nMAGIC MOJ
 O Cover Communion Acoustic Set an Coversongs\n\nDie Band wird eigens für
  den Gig im Rockcafé ein spezielles Acoustic Set zusammenstellen und als 
 Duo bestehend aus Marco Reiss (Gesang\, Gitarre) und Doc Breisacher (Gitar
 re\, Gesang) auftreten. Das Publikum wird auch mit weniger bekannten Songs
  von weltbekannten Künstlern verwöhnt werden. Gegründet wurde die Band 
 2021 von Sänger Marco Reiss\, der in der vollen Besetzung seine "best bud
 dies" und phantastische Musiker aus Süddeutschland\, Kroatien und Italien
  um sich vereint hat. Je nach Setlist tritt die Band meist in akustischer\
 , aber auch in elektrischer Besetzung auf. Alle Bandmitglieder haben in de
 n letzten 4 Jahrzehnten auf großen nationalen und internationalen Bühnen
  in Deutschland\, Italien\, der Schweiz bis hin zu den USA gespielt und da
 bei weltbekannte Acts wie REO Speedwagon\, Status Quo und Fish (Marillion)
  unterstützt und mit Geoff Tate (ex-Queensryche)\, Peter Green (Fleetwood
  Mac) und Deacon John Moore zusammengespielt.\n\nMehr zu MAGIC MOJO Cover 
 Communion (erlesene Auswahl an Coversongs) unter: Homepage: www.magicmoj
 o.de Facebook: www.facebook.com/magicmojocc.. _________________________
 ___________________________ Der Eintritt frei - der Hut geht rum. 20:00 Uh
 r Einlass ca. 21:15 Uhr Konzertbeginn   Alle Infos und Kanäle unter: ww
 w.kuschmie.de/links
ATTACH;FMTTYPE=image/jpeg:https://rockcafe-altdorf.de/wp-content/uploads/2
 024/07/WhatsApp-Image-2024-08-21-at-10.43.28.jpeg
LOCATION:#_LOCATIONNAME\, #_LOCATIONFULLLINE\, #_LOCATIONCOUNTRY
X-APPLE-STRUCTURED-LOCATION;VALUE=URI;X-ADDRESS=#_LOCATIONFULLLINE\, #_LOCA
 TIONCOUNTRY;X-APPLE-RADIUS=100;X-TITLE=#_LOCATIONNAME:geo:0,0
END:VEVENT
BEGIN:VTIMEZONE
TZID:Europe/Berlin
X-LIC-LOCATION:Europe/Berlin
BEGIN:DAYLIGHT
DTSTART:20240331T030000
TZOFFSETFROM:+0100
TZOFFSETTO:+0200
TZNAME:CEST
END:DAYLIGHT
END:VTIMEZONE
END:VCALENDAR