BEGIN:VCALENDAR
VERSION:2.0
PRODID:-//wp-events-plugin.com//7.2.3.1//EN
TZID:Europe/Berlin
X-WR-TIMEZONE:Europe/Berlin
BEGIN:VEVENT
UID:98@rockcafe-altdorf.de
DTSTART;TZID=Europe/Berlin:20260612T200000
DTEND;TZID=Europe/Berlin:20260612T235900
DTSTAMP:20260223T114612Z
URL:https://rockcafe-altdorf.de/programm/konzert-im-rockcafe-34/
SUMMARY:Halloween: Witchhouse (Coverrock)
DESCRIPTION:Die Rockband Witchhouse bringt mit ihrem facettenreichen Mix au
 s Classic Rock\, Hard Rock\, Pop und Metal den Hexenkessel zum kochen.\nDi
 e Bandmitglieder Andrew Roussak\, Daniel Dittler\, Stefan Weghaupt\, Heiko
  Bach\, Jessy Kimmig und Alexander Heidt wissen mit Orgel\, Piano\, Gitarr
 e\, Bass\, Drums und Mikrofon umzugehen und werden euch in ihren Bann rei
 ßen.\n\nHomepage: https://witchhouse-rock.jimdofree.com/\nFacebook: https
 ://www.facebook.com/livecoverrock\n\n_____________________________________
 _______________\nDer Eintritt frei - der Hut geht rum.\n20:00 Uhr Einlass\
 nca. 21:15 Uhr Konzertbeginn\n\nAlle Infos und Kanäle unter:\nwww.kuschmi
 e.de/links
END:VEVENT
BEGIN:VTIMEZONE
TZID:Europe/Berlin
X-LIC-LOCATION:Europe/Berlin
BEGIN:DAYLIGHT
DTSTART:20260329T030000
TZOFFSETFROM:+0100
TZOFFSETTO:+0200
TZNAME:CEST
END:DAYLIGHT
END:VTIMEZONE
END:VCALENDAR