BEGIN:VCALENDAR
VERSION:2.0
PRODID:-//wp-events-plugin.com//7.2.3.1//EN
TZID:Europe/Berlin
X-WR-TIMEZONE:Europe/Berlin
BEGIN:VEVENT
UID:18@rockcafe-altdorf.de
DTSTART;TZID=Europe/Berlin:20250307T200000
DTEND;TZID=Europe/Berlin:20250307T234500
DTSTAMP:20250120T183907Z
URL:https://rockcafe-altdorf.de/programm/fridayformetal-fate-of-pariah-ox/
SUMMARY:FridayForMetal: Fate of Pariah | OX
DESCRIPTION:Weitere Infos folgen in Kürze.\n\nDer Eintritt frei - der Hut 
 geht rum. 20:00 Uhr Einlass ca. 21:15 Uhr Konzertbeginn Alle Infos und Kan
 äle unter: www.kuschmie.de/links
END:VEVENT
BEGIN:VTIMEZONE
TZID:Europe/Berlin
X-LIC-LOCATION:Europe/Berlin
BEGIN:STANDARD
DTSTART:20241027T020000
TZOFFSETFROM:+0200
TZOFFSETTO:+0100
TZNAME:CET
END:STANDARD
END:VTIMEZONE
END:VCALENDAR