BEGIN:VCALENDAR
VERSION:2.0
PRODID:-//wp-events-plugin.com//7.2.3.1//EN
TZID:Europe/Berlin
X-WR-TIMEZONE:Europe/Berlin
BEGIN:VEVENT
UID:20@rockcafe-altdorf.de
DTSTART;TZID=Europe/Berlin:20250411T200000
DTEND;TZID=Europe/Berlin:20250411T234500
DTSTAMP:20250409T133820Z
URL:https://rockcafe-altdorf.de/programm/fishermans-fall/
SUMMARY:Fisherman's Fall\, LUDDI
DESCRIPTION:Fisherman's Fall\nMit mehr als 200 Konzerten gehören "Fisherma
 n's Fall" zu den etabliertesten Bands im Breisgau . Die gekonnte Mischung 
 zwischen Rock- und Partyfolklore würzen die 6 weinseligen Kaiserstühler 
 mit eingängigen\, selten tiefsinnigen\, aber dafür umso frecheren Texten
 . Seit nunmehr 30 Jahren treiben die Kaiserstühler schon ihr Unwesen auf 
 den angesagtesten Bühnen der Region. Mit der Veröﬀentlichung der CD 
 “Schorli” im Jahre 2001 ist aus der ehemals englisch singenden Combo e
 ine echte Mundart-Band geworden. Weitere über die Mundartgrenzen bekannte
 n Hymnen sind „Liebe vergeht - Hektar besteht“ und die Stadionhymne de
 s SC Freiburgs „SC Freiburg vor!“ Wie keine andere Band schaﬀt “Fi
 sherman‘s Fall” den Spagat zwischen Clubkonzert und Kleinkunstabend\, 
 zwischen Festzelt und der legendär gewordenen\, alljährlichen “ Strau
 ßi - Tour” durch die Kaiserstühler Straußenwirtschaften. Die Vielseit
 igkeit zeigt sich auch in der bunten Abwechslung ihrer Instrumentierung un
 d der Vielfarbigkeit ihrer mehrfach preisgekrönten Musik. “Fisherman‘
 s Fall” sind Rock\, Folklore\, Humor und ein Stück Kaiserstuhl.\nLUDDI 
 (Alemannen-Rock)\nhttps://luddi.com\n\nMehr zu LUDDI\n(Alemannen-Rock) unt
 er:\nHomepage: https://luddi.com/\nYoutube: https://www.youtube.com/@alema
 nnisch\nInstagram: https://www.instagram.com/luddi_rockt/\nFacebook: https
 ://www.facebook.com/Alemannenrock\n\nDer Eintritt frei - der Hut geht rum.
  20:00 Uhr Einlass ca. 21:15 Uhr Konzertbeginn Alle Infos und Kanäle unte
 r: www.kuschmie.de/links
ATTACH;FMTTYPE=image/jpeg:https://rockcafe-altdorf.de/wp-content/uploads/2
 024/11/Screenshot-2025-01-20-at-19.54.03.png
END:VEVENT
BEGIN:VTIMEZONE
TZID:Europe/Berlin
X-LIC-LOCATION:Europe/Berlin
BEGIN:DAYLIGHT
DTSTART:20250330T030000
TZOFFSETFROM:+0100
TZOFFSETTO:+0200
TZNAME:CEST
END:DAYLIGHT
END:VTIMEZONE
END:VCALENDAR